BEGIN:VCALENDAR
VERSION:2.0
PRODID:-//jEvents 2.0 for Joomla//EN
CALSCALE:GREGORIAN
METHOD:PUBLISH
BEGIN:VEVENT
UID:93924335f3032c8b04c8347c49c065b2
CATEGORIES:in-coop
CREATED:20231211T103814
SUMMARY:Sigweb Conferences - 14th International Learning Analytics and Knowledge Conference (LAK 2024)
LOCATION:Kyoto\, Japan
DESCRIPTION:LAK is the premier research forum in the field, providing common ground for
  all stakeholders in the design of analytics systems to debate the state of
  the art at the intersection of Learning and Analytics — including research
 ers, educators, instructional designers, data scientists, software develope
 rs, institutional leaders and governmental policymakers.\nLAK 2024 is the f
 irst LAK in Asia. Its local host is Kyoto University.\n
X-ALT-DESC;FMTTYPE=text/html:<p>LAK is the premier research forum in the field, providing common ground 
 for all stakeholders in the design of analytics systems to debate the state
  of the art at the intersection of Learning and Analytics — including resea
 rchers, educators, instructional designers, data scientists, software devel
 opers, institutional leaders and governmental policymakers.</p><p>LAK 2024 
 is the first LAK in Asia. Its local host is Kyoto University.</p>
CONTACT:https://www.solaresearch.org/events/lak/lak24/
DTSTAMP:20260424T001429
DTSTART;TZID=UTC;VALUE=DATE:20240318
DTEND;TZID=UTC;VALUE=DATE:20240323
SEQUENCE:0
TRANSP:OPAQUE
END:VEVENT
END:VCALENDAR