BEGIN:VCALENDAR
VERSION:2.0
PRODID:-//jEvents 2.0 for Joomla//EN
CALSCALE:GREGORIAN
METHOD:PUBLISH
BEGIN:VEVENT
UID:02a72ef1d2bafc3c528cc0695e7c9c74
CATEGORIES:in-coop
CREATED:20230221T101729
SUMMARY:Sigweb Conferences - The 13th International Learning Analytics  and Knowledge Conference
LOCATION:Arlington\, TX\, USA\,
DESCRIPTION:The Society for Learning Analytics Research (SoLAR) is an interdisciplinary
  network of leading international researchers who are exploring the role an
 d impact of analytics on teaching, learning, training and development.\n
X-ALT-DESC;FMTTYPE=text/html:<p>The Society for Learning Analytics Research (SoLAR) is an interdisciplin
 ary network of leading international researchers who are exploring the role
  and impact of analytics on teaching, learning, training and development.</
 p>
CONTACT:https://www.solaresearch.org/events/lak/lak23/
DTSTAMP:20260425T213028
DTSTART;TZID=UTC;VALUE=DATE:20230313
DTEND;TZID=UTC;VALUE=DATE:20230318
SEQUENCE:0
TRANSP:OPAQUE
END:VEVENT
END:VCALENDAR