BEGIN:VCALENDAR
VERSION:2.0
PRODID:-//jEvents 2.0 for Joomla//EN
CALSCALE:GREGORIAN
METHOD:PUBLISH
BEGIN:VEVENT
UID:003e25afcbefdabb0554a908b1a20fdb
CATEGORIES:in-coop
CREATED:20251104T141913
SUMMARY:Sigweb Conferences - 18th International Conference on Advanced Visual Interfaces
LOCATION:Venice\, Italy
DESCRIPTION:Since its first edition in 1992, the International Conference on Advanced V
 isual Interfaces (AVI) has become an influential space for encounters among
  scholars and practitioners interested in interfaces, interactions, and exp
 eriences. Rooted in pioneering research on visual interfaces characterized 
 by a distinctive attention to the human factor, the conference has evolved 
 across the different waves of Human-Computer Interaction. It has addressed 
 the pragmatic and hedonic needs of heterogeneous groups of users up to the 
 current challenge of self-actualization. Creativity is a core behavior that
  leads to the realization of a person’s full potential, and the explosion o
 f generative AI presents both opportunities and challenges to human creativ
 ity. They address fundamental issues related to agencies, interfaces, and e
 thics. AVI 2026 will be held in Venice, Italy.\n
X-ALT-DESC;FMTTYPE=text/html:<p>Since its first edition in 1992, the International Conference on Advance
 d Visual Interfaces (AVI) has become an influential space for encounters am
 ong scholars and practitioners interested in interfaces, interactions, and 
 experiences. Rooted in pioneering research on visual interfaces characteriz
 ed by a distinctive attention to the human factor, the conference has evolv
 ed across the different waves of Human-Computer Interaction. It has address
 ed the pragmatic and hedonic needs of heterogeneous groups of users up to t
 he current challenge of self-actualization. Creativity is a core behavior t
 hat leads to the realization of a person’s full potential, and the explosio
 n of generative AI presents both opportunities and challenges to human crea
 tivity. They address fundamental issues related to agencies, interfaces, an
 d ethics. AVI 2026 will be held in Venice, Italy.</p>
CONTACT:https://www.unive.it/avi2026
DTSTAMP:20260423T071825
DTSTART;TZID=UTC;VALUE=DATE:20260608
DTEND;TZID=UTC;VALUE=DATE:20260613
SEQUENCE:0
TRANSP:OPAQUE
END:VEVENT
END:VCALENDAR