BEGIN:VCALENDAR
VERSION:2.0
PRODID:-//jEvents 2.0 for Joomla//EN
CALSCALE:GREGORIAN
METHOD:PUBLISH
BEGIN:VEVENT
UID:d2df1c1d66b193e26acc4e2a19528f5b
CATEGORIES:Conference
CREATED:20240913T135503
SUMMARY:Sigweb Conferences - 25th ACM Symposium on Document Engineering (DocEng 2025)
LOCATION:Nottingham\, UK
DESCRIPTION:The 25th ACM Symposium on Document Engineering (DocEng'25) seeks original r
 esearch papers that focus on the design, implementation, development, manag
 ement, use and evaluation of advanced systems where documents and document 
 collections play a key role. DocEng emphasizes innovative approaches to doc
 ument engineering technology, use of documents and document collections in 
 real-world applications, and novel principles, tools and processes that imp
 rove our ability to create, manage, maintain, share, and productively use t
 hese.\nIn particular, DocEng'25 seeks contributions in the area of cooperat
 ive work with documents.\n
X-ALT-DESC;FMTTYPE=text/html:<p>The 25<sup>th</sup> ACM Symposium on Document Engineering (DocEng'25) se
 eks original research papers that focus on the design, implementation, deve
 lopment, management, use and evaluation of advanced systems where documents
  and document collections play a key role. DocEng emphasizes innovative app
 roaches to document engineering technology, use of documents and document c
 ollections in real-world applications, and novel principles, tools and proc
 esses that improve our ability to create, manage, maintain, share, and prod
 uctively use these.</p><p>In particular, DocEng'25 seeks contributions in t
 he area of cooperative work with documents.</p>
CONTACT:https://doceng.org/doceng2025
DTSTAMP:20260420T143655
DTSTART;TZID=UTC;VALUE=DATE:20250902
DTEND;TZID=UTC;VALUE=DATE:20250906
SEQUENCE:0
TRANSP:OPAQUE
END:VEVENT
END:VCALENDAR