BEGIN:VCALENDAR
VERSION:2.0
PRODID:-//jEvents 2.0 for Joomla//EN
CALSCALE:GREGORIAN
METHOD:PUBLISH
BEGIN:VEVENT
UID:00523fe38d8a97e6cfcdef6ab63ab816
CATEGORIES:Conference
CREATED:20230522T161153
SUMMARY:Sigweb Conferences - ACM TheWebConf 2024 (TheWebConf 2024)
LOCATION:Singapore
DESCRIPTION:Since the invention of the World Wide Web in 1989, The Web Conference (form
 erly known as International World Wide Web Conference, abbreviated as WWW) 
 is a yearly international academic conference on the topic of the future di
 rection of the World Wide Web. This conference has been the premier venue t
 o present and discuss progress in research, development, standards, and app
 lications of the topics related to the Web. Over the past three decades, Th
 e Web Conference has been the forum where some of the most fundamental Web 
 technologies have been introduced, such as the Anatomy of a Large Scale Web
  Search Engine in 1998 prefiguring Google, the EigenTrust algorithm in 2003
  and the YAGO knowledge base in 2007 (see also the Test of Time Award past 
 recipients). The conference assembles scholars, researchers, policymakers, 
 practitioners, and end-users with one unifying goal: to envision and create
  the future of the Web.\nThe 2024 ACM Web Conference is an in-person confer
 ence with rich virtual components including live streaming of keynotes, ora
 l presentations, workshops and tutorials, as well as access to pre-recorded
  videos of talks, and the Whova platform for interaction with all conferenc
 e attendees.\n
X-ALT-DESC;FMTTYPE=text/html:<p class="western" lang="en-AU" align="justify"><span style="color: #222222
 ;"><span style="font-family: Times new Roman, serif;"><span style="font-siz
 e: medium;">Since the invention of the World Wide Web in 1989, The Web Conf
 erence (formerly known as International World Wide Web Conference, abbrevia
 ted as WWW) is a yearly international academic conference on the topic of t
 he future direction of the World Wide Web. This conference has been the pre
 mier venue to present and discuss progress in research, development, standa
 rds, and applications of the topics related to the Web. Over the past three
  decades, The Web Conference has been the forum where some of the most fund
 amental Web technologies have been introduced, such as the Anatomy of a Lar
 ge Scale Web Search Engine in 1998 prefiguring Google, the EigenTrust algor
 ithm in 2003 and the YAGO knowledge base in 2007 (see also the Test of Time
  Award past recipients). The conference assembles scholars, researchers, po
 licymakers, practitioners, and end-users with one unifying goal: to envisio
 n and create the future of the Web.</span></span></span></p><p class="weste
 rn" lang="en-AU" align="justify"><span style="color: #222222;"><span style=
 "font-family: Times new Roman, serif;"><span style="font-size: medium;">The
  2024 ACM Web Conference is an in-person conference with rich virtual compo
 nents including live streaming of keynotes, oral presentations, workshops a
 nd tutorials, as well as access to pre-recorded videos of talks, and the Wh
 ova platform for interaction with all conference attendees.</span></span></
 span></p>
CONTACT:https://www2024.thewebconf.org/
DTSTAMP:20260424T120931
DTSTART;TZID=UTC;VALUE=DATE:20240513
DTEND;TZID=UTC;VALUE=DATE:20240518
SEQUENCE:0
TRANSP:OPAQUE
END:VEVENT
END:VCALENDAR